BEGIN:VCALENDAR
VERSION:2.0
PRODID:-//Espacio Código de Luz: Naturopatia y terapias naturales en Móstoles - ECPv6.15.15//NONSGML v1.0//EN
CALSCALE:GREGORIAN
METHOD:PUBLISH
X-ORIGINAL-URL:https://www.espaciocodigodeluz.es
X-WR-CALDESC:Eventos para Espacio Código de Luz: Naturopatia y terapias naturales en Móstoles
REFRESH-INTERVAL;VALUE=DURATION:PT1H
X-Robots-Tag:noindex
X-PUBLISHED-TTL:PT1H
BEGIN:VTIMEZONE
TZID:Europe/Madrid
BEGIN:DAYLIGHT
TZOFFSETFROM:+0100
TZOFFSETTO:+0200
TZNAME:CEST
DTSTART:20220327T010000
END:DAYLIGHT
BEGIN:STANDARD
TZOFFSETFROM:+0200
TZOFFSETTO:+0100
TZNAME:CET
DTSTART:20221030T010000
END:STANDARD
BEGIN:DAYLIGHT
TZOFFSETFROM:+0100
TZOFFSETTO:+0200
TZNAME:CEST
DTSTART:20230326T010000
END:DAYLIGHT
BEGIN:STANDARD
TZOFFSETFROM:+0200
TZOFFSETTO:+0100
TZNAME:CET
DTSTART:20231029T010000
END:STANDARD
BEGIN:DAYLIGHT
TZOFFSETFROM:+0100
TZOFFSETTO:+0200
TZNAME:CEST
DTSTART:20240331T010000
END:DAYLIGHT
BEGIN:STANDARD
TZOFFSETFROM:+0200
TZOFFSETTO:+0100
TZNAME:CET
DTSTART:20241027T010000
END:STANDARD
END:VTIMEZONE
BEGIN:VEVENT
DTSTART;TZID=Europe/Madrid:20230923T100000
DTEND;TZID=Europe/Madrid:20230924T140000
DTSTAMP:20260422T005511
CREATED:20221130T174225Z
LAST-MODIFIED:20230813T212902Z
UID:2803-1695463200-1695564000@www.espaciocodigodeluz.es
SUMMARY:Curso de Medicina Tradicional China. Acupuntura
DESCRIPTION:La acupuntura es la rama más extendida de la MTCH. Consiste en la aplicación de finísimas agujas en distintos puntos del cuerpo con el fin de llevar al organismo a un estado de curación y equilibrio. \nEl curso constará de 2 años\, hemos desarrollado un plan de estudios que se adapta a las necesidades de cualquier alumno y una metodología que facilita su aprendizaje sin perder la esencia de la Medicina Tradicional China. La formación incluye\, además de la Acupuntura\, otras herramientas de la Medicina Tradicional China: Auriculopuntura\, Martillo de siete puntas\, Moxibustión\, Digitopuntura\, Ventosas\, Gua sha\, Terapia con Imanes\, etc. \nDIRIGIDO A\n• Personas sin conocimientos previos ni experiencia\, partimos de cero.\n• Personal sanitario: médicos\, enfermeros\, fisioterapeutas\, auxiliares\, etc. como\nmedio para enriquecer su arsenal terapéutico.\n• Personal parasanitario: masajistas\, monitores deportivos\, practicantes de artes\nmarciales\, etc. como medio para seguir promoviendo actividades enfocadas a la\nsalud y el bienestar. \nCONTENIDO Y PRECIO DEL CURSO\nIncluye: \n\nManual en cada fin de semana con toda la información que necesitas sobre Medicina Tradicional China.\nAcceso a clases grabadas (podrás resolver dudas en tutoría si no puedes asistir)\nDiploma acreditativo.\n\nPrecio del curso:\n50 € matricula + 20 mensualidades de 120€ \nHORARIO \nsábado de 10:00 a 14:00 y 15:30 a 18:30 y domingo de 10:00 a 14:00 h \n1º curso: 23-24 Sept\, 21-22 Oct\, 18-19 Nov\, 16-17 Dic\, 20-21En\, 17-18 Feb\, 16-17 Mar\, 20-21 Abr\, 18-19 May\, 15-16 Jun \nPROGRAMA Y ASIGNATURAS: \n\nClase 1: Introducción a la Acupuntura\, conceptos generales\, Energías\, Yin-Yang\, los 5 elementos\, Shen\, material de trabajo\, procedimientos\, Reloj de los órganos.\nClase 2: Reino Mutante del Agua o Órgano y Entraña\n– Fisiopatologías y fisiología\n– Puntos Shu y otros resonadores especiales\nClase 3: Imanes y Martillo de 7 puntas\nClase 4: Reino Mutante de la Madera\n– Órgano y Entraña\n– Fisiopatologías y fisiología\n– Puntos Shu y otros resonadores especiales\nClase 5: Reino Mutante del Fuego\n– Órgano y Entraña\n– Fisiopatologías y fisiología\n– Puntos Shu y otros resonadores especiales\nClase 6: Auriculoterapia y Gua sha con acupuntura facial\nClase 7: Reino Mutante de la Tierra\n– Órgano y Entraña\n– Fisiopatologías y fisiología\n– Puntos Shu y otros resonadores especiales\nClase 8: Reino Mutante del Metal\n– Órgano y Entraña\n– Fisiopatologías y fisiología\n– Puntos Shu y otros resonadores especiales\nClase 9: Moxibustión\, digitopuntura\, técnicas de puntura\nClase 10 : Xin Bao (Maestro Corazón) y San Bao (Triple Recalentador). Resonadores Zhong\, puntos shen\nClase 11: Canal Riñón-Vejiga y puntos\nClase 12: Canal Hígado-Vesícula Biliar y puntos\nClase 13: Canal Corazón-Intestino Delgado y puntos\nClase 14: Canal Estomago-Bazo/Pancreas y puntos\nClase 15: Canal Pulmón-Intestino Grueso y puntos\nClase 16: Patologías Agua y Madera\nClase 17: Puntos de acción especial (Lo\, Xi\, Maestros\, Mo\, de influencia\, etc). Canales acoplados y unitarios\nClase 18: Patologías Fuego y Tierra\nClase 19: Patologías Metal y Octograma de Fushi (Vasos Maravillosos o Extraordinarios)\nClase 20: Elementos de Diagnostico (tez\, lengua\, pulsos)\, Elaboración de ficha\,\npreguntas a pacientes\, etc. Martillo de siete puntas
URL:https://www.espaciocodigodeluz.es/event/curso-de-medicina-tradicional-china-acupuntura/
LOCATION:Espacio Código de Luz\, Plaza del Sol 31\, Móstoles\, Madrid\, 28938\, España
CATEGORIES:energía,medicina china,naturopatia
ATTACH;FMTTYPE=image/jpeg:https://www.espaciocodigodeluz.es/wp-content/uploads/2016/04/Acupuntura-Mostoles.jpg
END:VEVENT
END:VCALENDAR