BEGIN:VCALENDAR
VERSION:2.0
PRODID:-//Espacio Código de Luz: Naturopatia y terapias naturales en Móstoles - ECPv6.15.15//NONSGML v1.0//EN
CALSCALE:GREGORIAN
METHOD:PUBLISH
X-WR-CALNAME:Espacio Código de Luz: Naturopatia y terapias naturales en Móstoles
X-ORIGINAL-URL:https://www.espaciocodigodeluz.es
X-WR-CALDESC:Eventos para Espacio Código de Luz: Naturopatia y terapias naturales en Móstoles
REFRESH-INTERVAL;VALUE=DURATION:PT1H
X-Robots-Tag:noindex
X-PUBLISHED-TTL:PT1H
BEGIN:VTIMEZONE
TZID:Europe/Madrid
BEGIN:DAYLIGHT
TZOFFSETFROM:+0100
TZOFFSETTO:+0200
TZNAME:CEST
DTSTART:20240331T010000
END:DAYLIGHT
BEGIN:STANDARD
TZOFFSETFROM:+0200
TZOFFSETTO:+0100
TZNAME:CET
DTSTART:20241027T010000
END:STANDARD
BEGIN:DAYLIGHT
TZOFFSETFROM:+0100
TZOFFSETTO:+0200
TZNAME:CEST
DTSTART:20250330T010000
END:DAYLIGHT
BEGIN:STANDARD
TZOFFSETFROM:+0200
TZOFFSETTO:+0100
TZNAME:CET
DTSTART:20251026T010000
END:STANDARD
BEGIN:DAYLIGHT
TZOFFSETFROM:+0100
TZOFFSETTO:+0200
TZNAME:CEST
DTSTART:20260329T010000
END:DAYLIGHT
BEGIN:STANDARD
TZOFFSETFROM:+0200
TZOFFSETTO:+0100
TZNAME:CET
DTSTART:20261025T010000
END:STANDARD
END:VTIMEZONE
BEGIN:VEVENT
DTSTART;TZID=Europe/Madrid:20250126T100000
DTEND;TZID=Europe/Madrid:20250126T190000
DTSTAMP:20260420T181958
CREATED:20241225T185844Z
LAST-MODIFIED:20241225T190023Z
UID:3129-1737885600-1737918000@www.espaciocodigodeluz.es
SUMMARY:Curso de Barras de Access Consciousness
DESCRIPTION:Descubre el Poder Transformador de Access Bars: Libérate del Estrés y Reprograma tu Mente para el Éxito \n¿Te imaginas soltar toda esa carga mental que te detiene y vivir con más claridad\, paz y entusiasmo? \nAccess Bars es una técnica revolucionaria que desbloquea patrones limitantes\, liberando espacio para que florezca lo mejor de ti. \nEn esta clase exclusiva\, aprenderás: \n✨ Cómo activar los 32 puntos en la cabeza que transforman creencias limitantes. \n✨ Técnicas para liberar estrés\, ansiedad y pensamientos repetitivos. \n✨ Una herramienta para atraer abundancia\, bienestar y creatividad en tu vida. \n¿Por qué tomar esta clase? \nAprenderás una habilidad que puedes usar para ti y otros. \nSentirás una ligereza inmediata al liberar cargas emocionales. \nEs el comienzo de una vida más plena\, feliz y libre! \nNo necesitas experiencia previa. Solo trae tu intención de cambio y apertura a nuevas posibilidades. \nFecha: 26 de Enero\nLugar: Plaza del Sol 31\, oficina 34 Móstoles (frente Metrosur Manuela Malasaña\n⏰ Hora: de 10 a 19 h aproximadamente\nReserva tu lugar ahora! \n”¿Qué más es posible para ti que aún no has imaginado?” \n¡No te pierdas esta oportunidad única de transformar tu vida! \n¡Íncribete hoy y empieza a cambiar tu mente y tu vida!✨ \n  \nEsta formación te habilita para realizar\nSesiones Individuales de Barras de Access. Se entrega diploma y manual. \nPrecio: 380€\, 30€ de reserva y el resto el día del curso \nCo-facilitadoras: Arantzazu Hidalgo y Ana Belén Puerta.  \n 
URL:https://www.espaciocodigodeluz.es/event/curso-de-barras-de-access-consciousness-mostoles/
LOCATION:Espacio Código de Luz\, Plaza del Sol 31\, Móstoles\, Madrid\, 28938\, España
CATEGORIES:crecimiento personal,energía
ATTACH;FMTTYPE=image/jpeg:https://www.espaciocodigodeluz.es/wp-content/uploads/2024/12/Copia-de-Social-Media-Wellness-Coach-05-Posts-1080X1080_20241225_190346_0000.jpg
END:VEVENT
END:VCALENDAR