BEGIN:VCALENDAR
VERSION:2.0
PRODID:-//Espacio Código de Luz: Naturopatia y terapias naturales en Móstoles - ECPv6.15.15//NONSGML v1.0//EN
CALSCALE:GREGORIAN
METHOD:PUBLISH
X-ORIGINAL-URL:https://www.espaciocodigodeluz.es
X-WR-CALDESC:Eventos para Espacio Código de Luz: Naturopatia y terapias naturales en Móstoles
REFRESH-INTERVAL;VALUE=DURATION:PT1H
X-Robots-Tag:noindex
X-PUBLISHED-TTL:PT1H
BEGIN:VTIMEZONE
TZID:Europe/Paris
BEGIN:DAYLIGHT
TZOFFSETFROM:+0100
TZOFFSETTO:+0200
TZNAME:CEST
DTSTART:20210328T010000
END:DAYLIGHT
BEGIN:STANDARD
TZOFFSETFROM:+0200
TZOFFSETTO:+0100
TZNAME:CET
DTSTART:20211031T010000
END:STANDARD
BEGIN:DAYLIGHT
TZOFFSETFROM:+0100
TZOFFSETTO:+0200
TZNAME:CEST
DTSTART:20220327T010000
END:DAYLIGHT
BEGIN:STANDARD
TZOFFSETFROM:+0200
TZOFFSETTO:+0100
TZNAME:CET
DTSTART:20221030T010000
END:STANDARD
BEGIN:DAYLIGHT
TZOFFSETFROM:+0100
TZOFFSETTO:+0200
TZNAME:CEST
DTSTART:20230326T010000
END:DAYLIGHT
BEGIN:STANDARD
TZOFFSETFROM:+0200
TZOFFSETTO:+0100
TZNAME:CET
DTSTART:20231029T010000
END:STANDARD
END:VTIMEZONE
BEGIN:VEVENT
DTSTART;TZID=Europe/Paris:20220402T120000
DTEND;TZID=Europe/Paris:20220402T140000
DTSTAMP:20260422T210721
CREATED:20220318T100039Z
LAST-MODIFIED:20220318T100326Z
UID:2526-1648900800-1648908000@www.espaciocodigodeluz.es
SUMMARY:Biodanza
DESCRIPTION:Se realiza una sesión de Biodanza quincenalmente de duración de dos horas. \nMovimiento\, consciencia corporal\, encuentro con uno mismo y con el otro desde el respeto\, conectar con nuestro mundo interno. \nLa clase está diseñada y dirigida por Facilitadora/s de Biodanza  Marta Romera\, psicóloga
URL:https://www.espaciocodigodeluz.es/event/biodanza-2/
LOCATION:Espacio Código de Luz\, Plaza del Sol 31\, Móstoles\, Madrid\, 28938\, España
CATEGORIES:crecimiento personal,energía
ATTACH;FMTTYPE=image/jpeg:https://www.espaciocodigodeluz.es/wp-content/uploads/2022/03/biodanza-en-Mostoles-e1647597790285.jpeg
END:VEVENT
END:VCALENDAR